BEGIN:VCALENDAR
VERSION:2.0
PRODID:-//Edmonton Summer Event Listings - ECPv6.15.20//NONSGML v1.0//EN
CALSCALE:GREGORIAN
METHOD:PUBLISH
X-ORIGINAL-URL:https://www.summercity.ca
X-WR-CALDESC:Events for Edmonton Summer Event Listings
REFRESH-INTERVAL;VALUE=DURATION:PT1H
X-Robots-Tag:noindex
X-PUBLISHED-TTL:PT1H
BEGIN:VTIMEZONE
TZID:America/Edmonton
BEGIN:DAYLIGHT
TZOFFSETFROM:-0700
TZOFFSETTO:-0600
TZNAME:MDT
DTSTART:20250309T090000
END:DAYLIGHT
BEGIN:STANDARD
TZOFFSETFROM:-0600
TZOFFSETTO:-0700
TZNAME:MST
DTSTART:20251102T080000
END:STANDARD
BEGIN:DAYLIGHT
TZOFFSETFROM:-0700
TZOFFSETTO:-0600
TZNAME:MDT
DTSTART:20260308T090000
END:DAYLIGHT
BEGIN:STANDARD
TZOFFSETFROM:-0600
TZOFFSETTO:-0700
TZNAME:MST
DTSTART:20261101T080000
END:STANDARD
BEGIN:DAYLIGHT
TZOFFSETFROM:-0700
TZOFFSETTO:-0600
TZNAME:MDT
DTSTART:20270314T090000
END:DAYLIGHT
BEGIN:STANDARD
TZOFFSETFROM:-0600
TZOFFSETTO:-0700
TZNAME:MST
DTSTART:20271107T080000
END:STANDARD
END:VTIMEZONE
BEGIN:VEVENT
DTSTART;TZID=America/Edmonton:20260612T170000
DTEND;TZID=America/Edmonton:20260613T020000
DTSTAMP:20260423T044035
CREATED:20260405T192738Z
LAST-MODIFIED:20260405T192738Z
UID:10014340-1781283600-1781316000@www.summercity.ca
SUMMARY:SEGUN JOHNSON ( THE REAL OWAMBE PARTY)
DESCRIPTION:We are bringing the Lagos Owambe Party energy straight to Edmonton and trust us this one is not a regular party. \n\n\n\n\nEDMONTON… ARE YOU READY FOR THE REAL OWAMBE!!!!!!! \nClear your calendar… cancel that your “maybe” plan… because something BIG is landing LIVE from LASGIDI! \nTHE REAL OWAMBE PARTY — LIVE IN EDMONTON
URL:https://www.summercity.ca/events/segun-johnson-the-real-owambe-party/
LOCATION:Canadian Druze Centre\, 14304 134 Avenue Northwest\, Edmonton\, Alberta\, T5L 5V8\, Canada
CATEGORIES:Music,Summer Nights
ATTACH;FMTTYPE=image/jpeg:https://www.summercity.ca/wp-content/uploads/2026/04/Screenshot-2026-04-05-at-1.25.10-PM.jpg
GEO:53.5959805;-113.5689276
X-APPLE-STRUCTURED-LOCATION;VALUE=URI;X-ADDRESS=Canadian Druze Centre 14304 134 Avenue Northwest Edmonton Alberta T5L 5V8 Canada;X-APPLE-RADIUS=500;X-TITLE=14304 134 Avenue Northwest:geo:-113.5689276,53.5959805
END:VEVENT
BEGIN:VEVENT
DTSTART;TZID=America/Edmonton:20260612T210000
DTEND;TZID=America/Edmonton:20260613T020000
DTSTAMP:20260423T044035
CREATED:20260321T052426Z
LAST-MODIFIED:20260321T052426Z
UID:10013902-1781298000-1781316000@www.summercity.ca
SUMMARY:DJ Mina
DESCRIPTION:
URL:https://www.summercity.ca/events/dj-mina/
LOCATION:Pawn Shop Live\, 6240 99 St NW\, Edmonton\, Alberta\, T6E 6C9\, Canada
CATEGORIES:Family Friendly,Music
ATTACH;FMTTYPE=image/jpeg:https://www.summercity.ca/wp-content/uploads/2026/03/Screenshot-2026-03-20-at-11.21.33-PM.jpg
GEO:53.498676;-113.4862962
X-APPLE-STRUCTURED-LOCATION;VALUE=URI;X-ADDRESS=Pawn Shop Live 6240 99 St NW Edmonton Alberta T6E 6C9 Canada;X-APPLE-RADIUS=500;X-TITLE=6240 99 St NW:geo:-113.4862962,53.498676
END:VEVENT
BEGIN:VEVENT
DTSTART;TZID=America/Edmonton:20260613T140000
DTEND;TZID=America/Edmonton:20260613T220000
DTSTAMP:20260423T044035
CREATED:20260329T213202Z
LAST-MODIFIED:20260329T213418Z
UID:10014317-1781359200-1781388000@www.summercity.ca
SUMMARY:Highlandia Festival
DESCRIPTION:A FESTIVAL AS UNIQUE AS THE HIGHLANDS\nA one-of-a-kind neighbourhood music festival set in historic Highlands\, overlooking the mighty North Saskatchewan river.
URL:https://www.summercity.ca/events/highlandia-festival/
LOCATION:Henry Martell Park\, 6603 66 St NW\, Edmonton\, Alberta\, T5B 0A5\, Canada
CATEGORIES:Family Friendly,Music,Outdoors
ATTACH;FMTTYPE=image/jpeg:https://www.summercity.ca/wp-content/uploads/2026/03/Screenshot-2026-03-29-at-3.30.12-PM.jpg
GEO:53.5622109;-113.4380991
X-APPLE-STRUCTURED-LOCATION;VALUE=URI;X-ADDRESS=Henry Martell Park 6603 66 St NW Edmonton Alberta T5B 0A5 Canada;X-APPLE-RADIUS=500;X-TITLE=6603 66 St NW:geo:-113.4380991,53.5622109
END:VEVENT
BEGIN:VEVENT
DTSTART;TZID=America/Edmonton:20260613T170000
DTEND;TZID=America/Edmonton:20260613T213000
DTSTAMP:20260423T044035
CREATED:20260321T052718Z
LAST-MODIFIED:20260321T052718Z
UID:10013903-1781370000-1781386200@www.summercity.ca
SUMMARY:MAANGAS
DESCRIPTION:
URL:https://www.summercity.ca/events/maangas/
LOCATION:Pawn Shop Live\, 6240 99 St NW\, Edmonton\, Alberta\, T6E 6C9\, Canada
CATEGORIES:Family Friendly,Music
ATTACH;FMTTYPE=image/jpeg:https://www.summercity.ca/wp-content/uploads/2026/03/Screenshot-2026-03-20-at-11.25.15-PM.jpg
GEO:53.498676;-113.4862962
X-APPLE-STRUCTURED-LOCATION;VALUE=URI;X-ADDRESS=Pawn Shop Live 6240 99 St NW Edmonton Alberta T6E 6C9 Canada;X-APPLE-RADIUS=500;X-TITLE=6240 99 St NW:geo:-113.4862962,53.498676
END:VEVENT
BEGIN:VEVENT
DTSTART;TZID=America/Edmonton:20260613T170000
DTEND;TZID=America/Edmonton:20260613T213000
DTSTAMP:20260423T044035
CREATED:20260405T174142Z
LAST-MODIFIED:20260405T174142Z
UID:10014334-1781370000-1781386200@www.summercity.ca
SUMMARY:Lou Barlow
DESCRIPTION:Lou Barlow has been among the most powerfully distinctive\, influential\, and prolific figures in independent music since the 1980s. He was a member of three important bands\, Dinosaur Jr.\, Sebadoh\, and the Folk Implosion\, as well as making time for a solo career\, and the common thread between his contributions to all these projects come from his gift for penning simple but memorable melodies\, and his willingness to bare his soul and expose his insecurities. As a bassist\, he took a supporting role in Dinosaur Jr.\, as the leader of Sebadoh he was a pivotal figure in the lo-fi revolution\, and with the Folk Implosion he managed to land a single in the pop Top 40\, 1995’s “Natural One.” Though his proper solo career didn’t begin until the 2000s\, 2005’s Emoh and 2015’s Brace the Wave show he’s still in firm command of his style and his gifts \n \n 
URL:https://www.summercity.ca/events/lou-barlow/
LOCATION:The Buckingham\, 10439 82 Ave NW\, Edmonton\, Alberta\, T6E 2A1\, Canada
CATEGORIES:18 +,Music
ATTACH;FMTTYPE=image/jpeg:https://www.summercity.ca/wp-content/uploads/2026/04/Screenshot-2026-04-05-at-11.32.14-AM.jpg
GEO:53.51776;-113.4991639
X-APPLE-STRUCTURED-LOCATION;VALUE=URI;X-ADDRESS=The Buckingham 10439 82 Ave NW Edmonton Alberta T6E 2A1 Canada;X-APPLE-RADIUS=500;X-TITLE=10439 82 Ave NW:geo:-113.4991639,53.51776
END:VEVENT
BEGIN:VEVENT
DTSTART;TZID=America/Edmonton:20260613T180000
DTEND;TZID=America/Edmonton:20260613T210000
DTSTAMP:20260423T044035
CREATED:20260307T012403Z
LAST-MODIFIED:20260307T012403Z
UID:10013609-1781373600-1781384400@www.summercity.ca
SUMMARY:Lift Up Yuh Prayze
DESCRIPTION:Get ready to lift your spirits and dance the night away at Lift Up Yuh Prayze – a celebration of music and community coming your way soon! \n\n\n\n\nAt Lift Up Yuh Prayze\, attendees can expect a powerful night of vibrant Caribbean-style worship\, dynamic gospel performances\, and an atmosphere filled with unity\, celebration\, and spiritual renewal. This is more than a concert—it is a gathering of believers\, music lovers\, and community members coming together to lift high the name of God through song and praise. Guests will experience live music that stirs the soul\, passionate worship that energizes the spirit\, and a culturally rich celebration of faith that leaves hearts encouraged and faith strengthened. Come prepared to sing\, to worship\, and to leave refreshed.
URL:https://www.summercity.ca/events/lift-up-yuh-prayze/
LOCATION:Living Waters Assembly Of God\, 15830 118 Avenue Northwest\, Edmonton\, Alberta\, T5V 0A9\, Canada
CATEGORIES:Family Friendly,Music
ATTACH;FMTTYPE=image/jpeg:https://www.summercity.ca/wp-content/uploads/2026/03/Screenshot-2026-03-06-at-6.18.22-PM.jpg
GEO:53.570998;-113.5942535
X-APPLE-STRUCTURED-LOCATION;VALUE=URI;X-ADDRESS=Living Waters Assembly Of God 15830 118 Avenue Northwest Edmonton Alberta T5V 0A9 Canada;X-APPLE-RADIUS=500;X-TITLE=15830 118 Avenue Northwest:geo:-113.5942535,53.570998
END:VEVENT
BEGIN:VEVENT
DTSTART;TZID=America/Edmonton:20260613T183000
DTEND;TZID=America/Edmonton:20260613T213000
DTSTAMP:20260423T044035
CREATED:20260301T012428Z
LAST-MODIFIED:20260301T012428Z
UID:10012848-1781375400-1781386200@www.summercity.ca
SUMMARY:Let It Be: Beatles .. Dinner Theatre
DESCRIPTION:As time continues to march on and generations go by one after another\, some cultural phenomena continue to hold a place of deep affection in the zeitgeist of every new era. There is no better example of this than The Beatles\, the fab four lads from Liverpool that defined what it is to be music superstars for everyone that came after. Jubilations Dinner Theatre brings to life the excitement\, the humour\, and of course the music of John\, Paul\, George and Ringo in this brand-new show. So let it be love\, let it be fun\, let it be Beatles! \nJubilations Dinner Theatre presents Let It Be Beatles! \n\n\nAdult\nAges 13 +\nCA$ 85.95 \n\n\nChild\nAges 12 & Under\nCA$ 48.95 \n\n\n \n 
URL:https://www.summercity.ca/events/let-it-be-beatles-dinner-theatre/2026-06-13/
LOCATION:Jubilations Dinner Theatre\, #2061\, 8882 170 Street\, Edmonton\, Alberta\, T5T 3J7\, Canada
CATEGORIES:Music,On Stage
ATTACH;FMTTYPE=image/webp:https://www.summercity.ca/wp-content/uploads/2026/02/Jubilations-Script-Logo_PURPLE_no-tag.webp
GEO:53.5224397;-113.6218728
X-APPLE-STRUCTURED-LOCATION;VALUE=URI;X-ADDRESS=Jubilations Dinner Theatre #2061 8882 170 Street Edmonton Alberta T5T 3J7 Canada;X-APPLE-RADIUS=500;X-TITLE=#2061\, 8882 170 Street:geo:-113.6218728,53.5224397
END:VEVENT
BEGIN:VEVENT
DTSTART;TZID=America/Edmonton:20260613T190000
DTEND;TZID=America/Edmonton:20260613T230000
DTSTAMP:20260423T044035
CREATED:20260307T070252Z
LAST-MODIFIED:20260307T070252Z
UID:10013632-1781377200-1781391600@www.summercity.ca
SUMMARY:Bailey Zimmerman
DESCRIPTION:With Hudson Westbrook and Blake Whiten
URL:https://www.summercity.ca/events/bailey-zimmerman/
LOCATION:Rogers Place\, 10214 104 Ave NW\, Edmonton\, Alberta\, T5J 0H6\, Canada
CATEGORIES:Music
ATTACH;FMTTYPE=image/jpeg:https://www.summercity.ca/wp-content/uploads/2026/03/Screenshot-2026-03-07-at-12.01.43-AM.jpg
GEO:53.5462106;-113.4961326
X-APPLE-STRUCTURED-LOCATION;VALUE=URI;X-ADDRESS=Rogers Place 10214 104 Ave NW Edmonton Alberta T5J 0H6 Canada;X-APPLE-RADIUS=500;X-TITLE=10214 104 Ave NW:geo:-113.4961326,53.5462106
END:VEVENT
BEGIN:VEVENT
DTSTART;TZID=America/Edmonton:20260613T193000
DTEND;TZID=America/Edmonton:20260613T220000
DTSTAMP:20260423T044035
CREATED:20260301T214648Z
LAST-MODIFIED:20260301T214648Z
UID:10013224-1781379000-1781388000@www.summercity.ca
SUMMARY:Metamold: Standing Wave Ensemble
DESCRIPTION:Bringing the festival to spectacular close\, New Music Edmonton is honoured to present our guests from Vancouver\, Standing Wave\, in an exhilarating program of new work that will take you to some very unexpected places. There are only a handful of Canadian ensembles comparable to Standing Wave: now in their fourth decade\, the group has\, since its inception\, commissioned and performed dozens of new works by Canadian composers. With several albums to their credit\, the group has been nominated for many Juno and Western Canadian Music awards. This concert offers a great selection of classical music behaving badly\, and will include works by some of our country’s most important composers\, each of them nominees or winners of several Juno Awards. Get ready for an onslaught of glitches\, raucous psychedelia\, misfiring thoughts\, alongside some of the most profoundly meditative and ecstatically gorgeous music you will hear anywhere! \nStanding Wave: Christie Reside\, AK Coope\, Rebecca Whitling\, Cristian Markos\, Allen Stiles\, and Vern Griffiths \nProgram: Bekah Simms\, single Red flower; Linda Caitlin Smith\, new work; Nicole Lizée\, Turntaazm; Dorothy Chang\, Of All Things Elusive; Bekah Simms\, Metamold \nMore details HERE
URL:https://www.summercity.ca/events/metamold-standing-wave-ensemble/
LOCATION:Holy Trinity Anglican Church\, 10037 84 Ave NW\, Edmonton\, Alberta\,  T6E 2G6\, Canada
CATEGORIES:Music,Performing Arts
ATTACH;FMTTYPE=image/jpeg:https://www.summercity.ca/wp-content/uploads/2026/03/Screenshot-2026-03-01-at-2.44.19-PM-scaled.jpg
GEO:53.519827;-113.490611
X-APPLE-STRUCTURED-LOCATION;VALUE=URI;X-ADDRESS=Holy Trinity Anglican Church 10037 84 Ave NW Edmonton Alberta  T6E 2G6 Canada;X-APPLE-RADIUS=500;X-TITLE=10037 84 Ave NW:geo:-113.490611,53.519827
END:VEVENT
BEGIN:VEVENT
DTSTART;TZID=America/Edmonton:20260613T193000
DTEND;TZID=America/Edmonton:20260613T220000
DTSTAMP:20260423T044035
CREATED:20260302T043330Z
LAST-MODIFIED:20260302T043330Z
UID:10013348-1781379000-1781388000@www.summercity.ca
SUMMARY:Rachmaninoff's Rhapsody
DESCRIPTION:Rachmaninoff’s Rhapsody on a Theme of Paganini bursts with energy and passion. It was an immediate hit with audiences. Joni Mitchell said\, “This piece sent me into raptures. To me\, it was a tender entreaty for the misunderstood.” \nKurt Weill—best known for The Threepenny Opera—called his innovative and tuneful Second Symphony a “symphonic fantasy.” It is a unique work of tremendous intensity by a rarely performed composer. \nRichard Strauss’ ultra-romantic tone poem Don Juan scandalized and delighted audiences at its 1889 premiere—never before had they heard such graphically suggestive music. \nThis concert will include an intermission. \n\nRACHMANINOFF\nRhapsody on a Theme of Paganini\n\n\nR STRAUSS\nDon Juan\n\n\nWEILL\nSymphony No. 2 “Fantaisie symphonique / Symphonic Fantasy”
URL:https://www.summercity.ca/events/rachmaninoffs-rhapsody/2026-06-13/
LOCATION:Francis Winspear Centre for Music\, 4 Sir Winston Churchill Square Northwest\, Edmonton\, Alberta\, T5J 4X8\, Canada
CATEGORIES:Music,Performing Arts
ATTACH;FMTTYPE=image/jpeg:https://www.summercity.ca/wp-content/uploads/2026/03/Screenshot-2026-03-01-at-9.30.18-PM.jpg
GEO:53.5439279;-113.4882882
X-APPLE-STRUCTURED-LOCATION;VALUE=URI;X-ADDRESS=Francis Winspear Centre for Music 4 Sir Winston Churchill Square Northwest Edmonton Alberta T5J 4X8 Canada;X-APPLE-RADIUS=500;X-TITLE=4 Sir Winston Churchill Square Northwest:geo:-113.4882882,53.5439279
END:VEVENT
BEGIN:VEVENT
DTSTART;TZID=America/Edmonton:20260613T210000
DTEND;TZID=America/Edmonton:20260614T020000
DTSTAMP:20260423T044035
CREATED:20260315T003029Z
LAST-MODIFIED:20260315T003029Z
UID:10013830-1781384400-1781402400@www.summercity.ca
SUMMARY:Spag Heddy
DESCRIPTION:Mischa Reining\, better known as Spag Heddy\, has been creating lots of buzz with his chart topping originals\, festival appearances\, and show around the world\, as well as much support from the best in media and DJs alike. Dutch born and residing\, Spag has been cooking up hits since 2011\, originally creating dubstep infused club bangers that quickly gained fans and followers. Pulling inspiration from the likes of Skrillex\, Funtcase\, Excision\, and many others\, Spag has gained widespread acclaim for his hard hitting\, yet melodic baselines that feel fresh and new to the listener. Having toured the US with Zomboy and Flux Pavillion in the past year\, Spag Heddy is eager to release new material and travel into new territories. Join the Meatball Mafia today and catch Spag Heddy in a city near you soon!
URL:https://www.summercity.ca/events/spag-heddy/
LOCATION:Temple Ballroom\, 11133 156 St NW\,\, Edmonton\, Alberta\, T5M 1X9\, Canada
CATEGORIES:18 +,Music
ATTACH;FMTTYPE=image/jpeg:https://www.summercity.ca/wp-content/uploads/2026/03/Screenshot-2026-03-14-at-6.27.31-PM.jpg
GEO:53.5602042;-113.5891402
X-APPLE-STRUCTURED-LOCATION;VALUE=URI;X-ADDRESS=Temple Ballroom 11133 156 St NW Edmonton Alberta T5M 1X9 Canada;X-APPLE-RADIUS=500;X-TITLE=11133 156 St NW\,:geo:-113.5891402,53.5602042
END:VEVENT
END:VCALENDAR