BEGIN:VCALENDAR
VERSION:2.0
PRODID:-//Edmonton Summer Event Listings - ECPv6.15.20//NONSGML v1.0//EN
CALSCALE:GREGORIAN
METHOD:PUBLISH
X-ORIGINAL-URL:https://www.summercity.ca
X-WR-CALDESC:Events for Edmonton Summer Event Listings
REFRESH-INTERVAL;VALUE=DURATION:PT1H
X-Robots-Tag:noindex
X-PUBLISHED-TTL:PT1H
BEGIN:VTIMEZONE
TZID:America/Edmonton
BEGIN:DAYLIGHT
TZOFFSETFROM:-0700
TZOFFSETTO:-0600
TZNAME:MDT
DTSTART:20250309T090000
END:DAYLIGHT
BEGIN:STANDARD
TZOFFSETFROM:-0600
TZOFFSETTO:-0700
TZNAME:MST
DTSTART:20251102T080000
END:STANDARD
BEGIN:DAYLIGHT
TZOFFSETFROM:-0700
TZOFFSETTO:-0600
TZNAME:MDT
DTSTART:20260308T090000
END:DAYLIGHT
BEGIN:STANDARD
TZOFFSETFROM:-0600
TZOFFSETTO:-0700
TZNAME:MST
DTSTART:20261101T080000
END:STANDARD
BEGIN:DAYLIGHT
TZOFFSETFROM:-0700
TZOFFSETTO:-0600
TZNAME:MDT
DTSTART:20270314T090000
END:DAYLIGHT
BEGIN:STANDARD
TZOFFSETFROM:-0600
TZOFFSETTO:-0700
TZNAME:MST
DTSTART:20271107T080000
END:STANDARD
END:VTIMEZONE
BEGIN:VEVENT
DTSTART;TZID=America/Edmonton:20260605T183000
DTEND;TZID=America/Edmonton:20260605T213000
DTSTAMP:20260423T062814
CREATED:20260301T012428Z
LAST-MODIFIED:20260301T012428Z
UID:10012845-1780684200-1780695000@www.summercity.ca
SUMMARY:Let It Be: Beatles .. Dinner Theatre
DESCRIPTION:As time continues to march on and generations go by one after another\, some cultural phenomena continue to hold a place of deep affection in the zeitgeist of every new era. There is no better example of this than The Beatles\, the fab four lads from Liverpool that defined what it is to be music superstars for everyone that came after. Jubilations Dinner Theatre brings to life the excitement\, the humour\, and of course the music of John\, Paul\, George and Ringo in this brand-new show. So let it be love\, let it be fun\, let it be Beatles! \nJubilations Dinner Theatre presents Let It Be Beatles! \n\n\nAdult\nAges 13 +\nCA$ 85.95 \n\n\nChild\nAges 12 & Under\nCA$ 48.95 \n\n\n \n 
URL:https://www.summercity.ca/events/let-it-be-beatles-dinner-theatre/2026-06-05/
LOCATION:Jubilations Dinner Theatre\, #2061\, 8882 170 Street\, Edmonton\, Alberta\, T5T 3J7\, Canada
CATEGORIES:Music,On Stage
ATTACH;FMTTYPE=image/webp:https://www.summercity.ca/wp-content/uploads/2026/02/Jubilations-Script-Logo_PURPLE_no-tag.webp
GEO:53.5224397;-113.6218728
X-APPLE-STRUCTURED-LOCATION;VALUE=URI;X-ADDRESS=Jubilations Dinner Theatre #2061 8882 170 Street Edmonton Alberta T5T 3J7 Canada;X-APPLE-RADIUS=500;X-TITLE=#2061\, 8882 170 Street:geo:-113.6218728,53.5224397
END:VEVENT
BEGIN:VEVENT
DTSTART;TZID=America/Edmonton:20260605T183000
DTEND;TZID=America/Edmonton:20260605T233000
DTSTAMP:20260423T062814
CREATED:20260304T035000Z
LAST-MODIFIED:20260304T035000Z
UID:10013549-1780684200-1780702200@www.summercity.ca
SUMMARY:Carolyn Dawn Johnson
DESCRIPTION:The life and career of hit singer-songwriter Carolyn Dawn Johnson has been a steady climb to the top\, as she remains a staple in the country music industry nearly 20 years after setting out to pursue her dreams in Nashville. Johnson scored her first chart-topping hit as a songwriter when Chely Wright took “Single White Female” all the way to No. 1. \nJohnson was named Breakthrough Songwriter of the Year in 2000byMusic Row\, and has continued to carry that title well as one of the town’s most loved and respected tunesmiths around. \nBesides laying down vocals for her own albums\, Johnson’s angelic voice can also be heard on several outside projects with Miranda Lambert\, Martina McBride\, Jana Kramer\, Johnny Reid\, Blake Shelton\,Dan+Shay\, Kenny Rogers\, Loretta Lynn\, and Patty Loveless.
URL:https://www.summercity.ca/events/carolyn-dawn-johnson/
LOCATION:The Pearl Showroom\, 12464 153 Street\, Edmonton\, Alberta\, T5V 1S5\, Canada
CATEGORIES:18 +,Music,On Stage
ATTACH;FMTTYPE=image/jpeg:https://www.summercity.ca/wp-content/uploads/2026/03/Screenshot-2026-03-03-at-8.47.52-PM.jpg
GEO:53.5794527;-113.5854824
X-APPLE-STRUCTURED-LOCATION;VALUE=URI;X-ADDRESS=The Pearl Showroom 12464 153 Street Edmonton Alberta T5V 1S5 Canada;X-APPLE-RADIUS=500;X-TITLE=12464 153 Street:geo:-113.5854824,53.5794527
END:VEVENT
BEGIN:VEVENT
DTSTART;TZID=America/Edmonton:20260605T193000
DTEND;TZID=America/Edmonton:20260605T220000
DTSTAMP:20260423T062814
CREATED:20260301T210449Z
LAST-MODIFIED:20260301T210522Z
UID:10013222-1780687800-1780696800@www.summercity.ca
SUMMARY:Re-Zoning: Pigeon Breeders
DESCRIPTION:with Kate Stashko\nThe 15th edition of Now Hear This kicks off with an exciting collaboration between two of Edmonton’s leading experimental artists: Pigeon Breeders (Myles Bartel and Will Scott) and dance artist Kate Stashko. Their new work\, Expressions\, is a dynamic structured improvisation that transforms Stashko’s dance into a living expression pedal\, guiding Pigeon Breeders—armed with a fascinating array of found objects and instruments—through her captivating movement language. The result is an electrifying journey that unfolds across the performance space\, blurring the lines between sound and motion. \nDetails HERE \n 
URL:https://www.summercity.ca/events/re-zoning-pigeon-breeders/
LOCATION:Mile Zero Dance Society\, 9931 78 Avenue Northwest\, Edmonton\, Alberta\, T6E 1N6\, Canada
CATEGORIES:Music,On the Street
ATTACH;FMTTYPE=image/jpeg:https://www.summercity.ca/wp-content/uploads/2026/03/Screenshot-2026-03-01-at-1.56.31-PM.jpg
GEO:53.5139876;-113.4874685
X-APPLE-STRUCTURED-LOCATION;VALUE=URI;X-ADDRESS=Mile Zero Dance Society 9931 78 Avenue Northwest Edmonton Alberta T6E 1N6 Canada;X-APPLE-RADIUS=500;X-TITLE=9931 78 Avenue Northwest:geo:-113.4874685,53.5139876
END:VEVENT
BEGIN:VEVENT
DTSTART;TZID=America/Edmonton:20260605T193000
DTEND;TZID=America/Edmonton:20260605T220000
DTSTAMP:20260423T062814
CREATED:20260302T033807Z
LAST-MODIFIED:20260302T033807Z
UID:10013343-1780687800-1780696800@www.summercity.ca
SUMMARY:Final Symphony: Music from Final Fantasy
DESCRIPTION:Immerse yourself in the worlds of Final Fantasy like never before! Since its debut release almost 40 years ago\, and with over 200 million copies sold worldwide\, the Final Fantasy video game series has captivated fans with epic tales\, iconic characters\, and magical journeys. Hear the breathtaking scores by Nobuo Uematsu and Masashi Hamauzu from Final Fantasy VI\, VII and X with your Edmonton Symphony Orchestra and you’ll see why this performance has sold out in concert halls around the globe. \nThis concert will include an intermission.
URL:https://www.summercity.ca/events/final-symphony-music-from-final-fantasy/2026-06-05/
LOCATION:Francis Winspear Centre for Music\, 4 Sir Winston Churchill Square Northwest\, Edmonton\, Alberta\, T5J 4X8\, Canada
CATEGORIES:Music,Performing Arts
ATTACH;FMTTYPE=image/jpeg:https://www.summercity.ca/wp-content/uploads/2026/03/Screenshot-2026-03-01-at-8.35.30-PM.jpg
GEO:53.5439279;-113.4882882
X-APPLE-STRUCTURED-LOCATION;VALUE=URI;X-ADDRESS=Francis Winspear Centre for Music 4 Sir Winston Churchill Square Northwest Edmonton Alberta T5J 4X8 Canada;X-APPLE-RADIUS=500;X-TITLE=4 Sir Winston Churchill Square Northwest:geo:-113.4882882,53.5439279
END:VEVENT
BEGIN:VEVENT
DTSTART;TZID=America/Edmonton:20260605T200000
DTEND;TZID=America/Edmonton:20260605T223000
DTSTAMP:20260423T062814
CREATED:20260315T010832Z
LAST-MODIFIED:20260315T010832Z
UID:10013833-1780689600-1780698600@www.summercity.ca
SUMMARY:St.Arnaud
DESCRIPTION:St.Arnaud is the music of Ian (St.Arnaud)\, a project that balances buoyant\, wry storytelling with roots and early indie influences\, all wrapped in lively\, danceable arrangements. Often described as “the goofy side of self-serious indie rock.” The collection is to be packaged into three deluxe singles\, and then released as a self-titled album on Cordova Bay Records. Each of these deluxe singles is a motley crew of songs\, packaged more around a mode of production than a particular genre or feeling. Steeped in the raucous and fun-loving 70s’ folkers and power poppers like Jonathan Richman and The Modern Lovers\, the result is a larger and livelier interpretation that retains Ian’s penchant for pop hooks and sardonic lyrics. \nThe album and its preceding EPs are a range of material including rock songs\, more folk-oriented singer-songwriter songs\, danceable rock songs\, and emotional ballads. St.Arnaud has played with Basia Bulat\, Reuben and the Dark\, and Lucy Rose among countless others and has performed at stages across the world including The Great Escape\, Reeperbahn\, New Colossus Festival\, FOCUS Wales\, and Tallinn Music Week. St.Arnaud has been featured on Exclaim!\, Folk Radio UK\, Indie 88\, CKUA\, and the CBC Radio 3 top 10.
URL:https://www.summercity.ca/events/st-arnaud/
LOCATION:9910\, 9910B 109 ST NW\, Edmonton\, Alberta\, T5K 1H5\, Canada
CATEGORIES:Music
ATTACH;FMTTYPE=image/jpeg:https://www.summercity.ca/wp-content/uploads/2026/03/Screenshot-2026-03-14-at-7.06.04-PM.jpg
GEO:53.5375638;-113.5086933
X-APPLE-STRUCTURED-LOCATION;VALUE=URI;X-ADDRESS=9910 9910B 109 ST NW Edmonton Alberta T5K 1H5 Canada;X-APPLE-RADIUS=500;X-TITLE=9910B 109 ST NW:geo:-113.5086933,53.5375638
END:VEVENT
BEGIN:VEVENT
DTSTART;TZID=America/Edmonton:20260605T210000
DTEND;TZID=America/Edmonton:20260606T020000
DTSTAMP:20260423T062814
CREATED:20260315T002451Z
LAST-MODIFIED:20260315T002504Z
UID:10013829-1780693200-1780711200@www.summercity.ca
SUMMARY:Avello
DESCRIPTION:AVELLO is rapidly emerging as one of dance music’s most talked-about breakout names\, fueled by a string of viral moments that have defined his past nine months. His remix of “No Broke Boys” exploded across social platforms and festival stages alike\, becoming a staple in DJ sets worldwide\, while his remix of “Electric Love” further cemented his signature blend of high-energy drops and emotionally charged melodies. In 2025 alone\, AVELLO experienced massive growth\, skyrocketing from just 18\,000 to over 1.4 million monthly listeners on Spotify—an explosive rise that transformed him from underground favorite to global contender almost overnight. \n  \nBuilding on that momentum\, AVELLO has expanded his reach through collaborations with powerhouse artists like Deorro\, Adventure Club\, and Laszewo\, showcasing his versatility across bass\, melodic\, and festival-driven sounds. Building on that momentum\, AVELLO has expanded his reach through collaborations with powerhouse artists like Deorro\, Adventure Club\, and Laszewo\, showcasing his versatility across bass\, melodic\, and festival-driven sounds. Showing no signs of slowing down\, he continues to land major festival appearances including EDC\, Beyond Wonderland SoCal\, Forbidden Kingdom\, Electric Forest\, and Escapade\, all while in the middle of a massive tour drawing packed crowds city after city. With anthemic production\, explosive live sets\, and unstoppable momentum\, AVELLO is solidifying his place as one of the most exciting forces shaping the next era of electronic music.
URL:https://www.summercity.ca/events/avello/
LOCATION:Temple Ballroom\, 11133 156 St NW\,\, Edmonton\, Alberta\, T5M 1X9\, Canada
CATEGORIES:18 +,Music,Summer Nights
ATTACH;FMTTYPE=image/jpeg:https://www.summercity.ca/wp-content/uploads/2026/03/Screenshot-2026-03-14-at-6.12.04-PM.jpg
GEO:53.5602042;-113.5891402
X-APPLE-STRUCTURED-LOCATION;VALUE=URI;X-ADDRESS=Temple Ballroom 11133 156 St NW Edmonton Alberta T5M 1X9 Canada;X-APPLE-RADIUS=500;X-TITLE=11133 156 St NW\,:geo:-113.5891402,53.5602042
END:VEVENT
END:VCALENDAR