BEGIN:VCALENDAR
VERSION:2.0
PRODID:-//Edmonton Summer Event Listings - ECPv6.15.20//NONSGML v1.0//EN
CALSCALE:GREGORIAN
METHOD:PUBLISH
X-ORIGINAL-URL:https://www.summercity.ca
X-WR-CALDESC:Events for Edmonton Summer Event Listings
REFRESH-INTERVAL;VALUE=DURATION:PT1H
X-Robots-Tag:noindex
X-PUBLISHED-TTL:PT1H
BEGIN:VTIMEZONE
TZID:America/Edmonton
BEGIN:DAYLIGHT
TZOFFSETFROM:-0700
TZOFFSETTO:-0600
TZNAME:MDT
DTSTART:20250309T090000
END:DAYLIGHT
BEGIN:STANDARD
TZOFFSETFROM:-0600
TZOFFSETTO:-0700
TZNAME:MST
DTSTART:20251102T080000
END:STANDARD
BEGIN:DAYLIGHT
TZOFFSETFROM:-0700
TZOFFSETTO:-0600
TZNAME:MDT
DTSTART:20260308T090000
END:DAYLIGHT
BEGIN:STANDARD
TZOFFSETFROM:-0600
TZOFFSETTO:-0700
TZNAME:MST
DTSTART:20261101T080000
END:STANDARD
BEGIN:DAYLIGHT
TZOFFSETFROM:-0700
TZOFFSETTO:-0600
TZNAME:MDT
DTSTART:20270314T090000
END:DAYLIGHT
BEGIN:STANDARD
TZOFFSETFROM:-0600
TZOFFSETTO:-0700
TZNAME:MST
DTSTART:20271107T080000
END:STANDARD
END:VTIMEZONE
BEGIN:VEVENT
DTSTART;TZID=America/Edmonton:20260603T183000
DTEND;TZID=America/Edmonton:20260603T213000
DTSTAMP:20260423T044037
CREATED:20260301T012900Z
LAST-MODIFIED:20260301T012900Z
UID:10012853-1780511400-1780522200@www.summercity.ca
SUMMARY:Let It Be: Beatles .. Dinner Theatre
DESCRIPTION:As time continues to march on and generations go by one after another\, some cultural phenomena continue to hold a place of deep affection in the zeitgeist of every new era. There is no better example of this than The Beatles\, the fab four lads from Liverpool that defined what it is to be music superstars for everyone that came after. Jubilations Dinner Theatre brings to life the excitement\, the humour\, and of course the music of John\, Paul\, George and Ringo in this brand-new show. So let it be love\, let it be fun\, let it be Beatles! \nJubilations Dinner Theatre presents Let It Be Beatles! \n\n\n\nAdult\nAges 13+\nCA$ 79.95 \n\n\nChild\nAges 12 & Under\nCA$ 48.95 \n\n\nStudent Special\nCA$ 61.25 \n\n\nSenior Special\nAges 60+\nCA$ 61.25 \n\n\n\n \n 
URL:https://www.summercity.ca/events/let-it-be-beatles-dinner-theatre-2/2026-06-03/
LOCATION:Jubilations Dinner Theatre\, #2061\, 8882 170 Street\, Edmonton\, Alberta\, T5T 3J7\, Canada
CATEGORIES:Music,On Stage
ATTACH;FMTTYPE=image/webp:https://www.summercity.ca/wp-content/uploads/2026/02/Jubilations-Script-Logo_PURPLE_no-tag.webp
GEO:53.5224397;-113.6218728
X-APPLE-STRUCTURED-LOCATION;VALUE=URI;X-ADDRESS=Jubilations Dinner Theatre #2061 8882 170 Street Edmonton Alberta T5T 3J7 Canada;X-APPLE-RADIUS=500;X-TITLE=#2061\, 8882 170 Street:geo:-113.6218728,53.5224397
END:VEVENT
BEGIN:VEVENT
DTSTART;TZID=America/Edmonton:20260603T193000
DTEND;TZID=America/Edmonton:20260603T223000
DTSTAMP:20260423T044037
CREATED:20260303T020005Z
LAST-MODIFIED:20260303T020005Z
UID:10013418-1780515000-1780525800@www.summercity.ca
SUMMARY:Paul and the Feels
DESCRIPTION:Paul and the Feels craft music that pulses with soul\, grit\, and heart. Rooted in classic rhythm and blues\, their songs carry raw emotional weight\, blending vintage grooves with a modern edge. Each track unfolds a story with honesty and depth\, delivered by a working man’s soul band driven by powerful vocals. Wherever they find you\, Paul and the Feels will meet you—and move you\, body and soul.
URL:https://www.summercity.ca/events/paul-and-the-feels/
LOCATION:Maclab Centre for the Performing Arts\, 4308 – 50 St\, Leduc\, Alberta\,  T9E 6K8\, \, Canada
CATEGORIES:Music,Outside Edmonton
ATTACH;FMTTYPE=image/jpeg:https://www.summercity.ca/wp-content/uploads/2026/03/Screenshot-2026-03-02-at-6.54.31-PM.jpg
GEO:53.2564998;-113.5497442
X-APPLE-STRUCTURED-LOCATION;VALUE=URI;X-ADDRESS=Maclab Centre for the Performing Arts 4308 – 50 St Leduc Alberta  T9E 6K8  Canada;X-APPLE-RADIUS=500;X-TITLE=4308 – 50 St:geo:-113.5497442,53.2564998
END:VEVENT
BEGIN:VEVENT
DTSTART;TZID=America/Edmonton:20260603T193000
DTEND;TZID=America/Edmonton:20260603T233000
DTSTAMP:20260423T044037
CREATED:20260304T045952Z
LAST-MODIFIED:20260304T045952Z
UID:10013555-1780515000-1780529400@www.summercity.ca
SUMMARY:The Black Keys
DESCRIPTION:Bio\n\nAround turn of the century in Akron\, OH\, two childhood friends regularly huddled around a rudimentary tape recorder and wrote songs. After more than two decades\, five GRAMMY® awards\, worldwide sales of 10 million-plus\, streams in the billions\, and countless sold-out shows\, The Black Keys—Dan Auerbach [vocals\, guitar] and Patrick Carney [drums]—still operate the same way. To this day\, the duo write\, record\, and produce music together\, jamming like no one’s watching\, disregarding the rules\, and following their own creative impulses without compromise. Since their inception\, they have consistently captivated audiences with seismic live performances and a fluid and fiery body of work. Following influential favorites such as Thickfreakness [2003] and Magic Potion[2006]\, they made waves with 2008’s gold-certified Attack & Release. In its wake\, Brothers [2010] reached double-platinum status\, received a GRAMMY® for “Best Alternative Music Album\,” and spawned the staple “Tighten Up”—which notched a GRAMMY® for “Best Rock Performance by a Duo or Group with Vocal.” 2011 saw the guys unveil El Camino. It went double-platinum and scored three GRAMMYs®\, including “Best Rock Album” as well as “Best Rock Performance” and “Best Rock Song” for “Lonely Boy.” In 2014\, the gold-selling Turn Blue bowed at #1 on the Billboard 200. Maintaining this momentum\, 2022’s Dropout Boogie marked their sixth Top 10 debut on the Billboard 200.
URL:https://www.summercity.ca/events/the-black-keys/
LOCATION:Rogers Place\, 10214 104 Ave NW\, Edmonton\, Alberta\, T5J 0H6\, Canada
CATEGORIES:Music
ATTACH;FMTTYPE=image/jpeg:https://www.summercity.ca/wp-content/uploads/2026/03/Screenshot-2026-03-03-at-9.56.16-PM.jpg
GEO:53.5462106;-113.4961326
X-APPLE-STRUCTURED-LOCATION;VALUE=URI;X-ADDRESS=Rogers Place 10214 104 Ave NW Edmonton Alberta T5J 0H6 Canada;X-APPLE-RADIUS=500;X-TITLE=10214 104 Ave NW:geo:-113.4961326,53.5462106
END:VEVENT
BEGIN:VEVENT
DTSTART;TZID=America/Edmonton:20260603T193000
DTEND;TZID=America/Edmonton:20260603T233000
DTSTAMP:20260423T044037
CREATED:20260315T200449Z
LAST-MODIFIED:20260315T200449Z
UID:10013843-1780515000-1780529400@www.summercity.ca
SUMMARY:Flamenco Performance
DESCRIPTION:Flamenco dancers Claire Marchand\, Jane Ogilvie\, and Rosanna Terracciano have explored their own creative trajectories since meeting years ago as emerging dancers. Now\, as established artists\, each has played an integral role in establishing a Flamenco presence in Western Canada. Their paths have crossed as artists\, colleagues\, and friends in many ways over the years. \nIn 2023 they decided it was time to formally create a project where they would have the chance to collaborate. Their first project “Flamenco at the Yardbird” was presented to a sold out audience in 2024 with invited guests\, Vancouver Flamenco guitarist and dance accompanist Peter Mole and Spanish singer Celedonio Garrido. In 2025 they returned to the Yardbird for two nights\, with a new performance including returning guitarist Peter Mole and new guest Spanish singer/percussionist Francisco Orozco “Yiyi”\, taking the show on the road to their hometowns of Calgary\, Edmonton\, and Winnipeg\, to rave reviews. \nExperience the mesmerizing interaction of soulful singing\, intricate guitar\, percussive footwork and expressive dance of the Flamenco “tablao”\, with the special addition of flamenco piano. Expect the magical intensity\, improvisation and inspiration that can only be felt in the live encounter of flamenco artists.
URL:https://www.summercity.ca/events/flamenco-performance/2026-06-03/
LOCATION:Yardbird Suite\, 10203 86 Ave NW\, Edmonton\, Alberta\, T6E 2M2\, Canada
CATEGORIES:Music
ATTACH;FMTTYPE=image/jpeg:https://www.summercity.ca/wp-content/uploads/2026/03/Screenshot-2026-03-15-at-2.02.18-PM.jpg
GEO:53.5218336;-113.4923379
X-APPLE-STRUCTURED-LOCATION;VALUE=URI;X-ADDRESS=Yardbird Suite 10203 86 Ave NW Edmonton Alberta T6E 2M2 Canada;X-APPLE-RADIUS=500;X-TITLE=10203 86 Ave NW:geo:-113.4923379,53.5218336
END:VEVENT
END:VCALENDAR